BEGIN:VCALENDAR
VERSION:2.0
METHOD:PUBLISH
PRODID:-//imacoda.com//SPD-Web-O-Mat//EN
CALSCALE:GREGORIAN
BEGIN:VTIMEZONE
TZID:Europe/Berlin
BEGIN:DAYLIGHT
TZOFFSETFROM:+0100
RRULE:FREQ=YEARLY;BYMONTH=3;BYDAY=-1SU
DTSTART:19810329T020000
TZNAME:MESZ
TZOFFSETTO:+0200
END:DAYLIGHT
BEGIN:STANDARD
TZOFFSETFROM:+0200
RRULE:FREQ=YEARLY;BYMONTH=10;BYDAY=-1SU
DTSTART:19961027T030000
TZNAME:MEZ
TZOFFSETTO:+0100
END:STANDARD
END:VTIMEZONE
BEGIN:VEVENT
UID:20250510T104606Z-00001040637-LULU@www.bayernspd.de
CREATED:20250510T104606Z
LAST-MODIFIED:20250617T171920Z
DTSTAMP:20250617T171920Z
TRANSP:TRANSPARENT
DTSTART;TZID=Europe/Berlin:20250705T110000
DTEND;TZID=Europe/Berlin:20250705T110000
SUMMARY:Neumitgliederseminar
LOCATION:München\, Alte Alle 2
DESCRIPTION:Termin im Web (Jusos Oberbayern):\nhttps://jusos-oberbayern.
 de/termine/?id=1040637
END:VEVENT
END:VCALENDAR
